BEGIN:VCALENDAR
VERSION:2.0
PRODID:-//srilankaapparelsourcing.com - ECPv6.15.19//NONSGML v1.0//EN
CALSCALE:GREGORIAN
METHOD:PUBLISH
X-WR-CALNAME:srilankaapparelsourcing.com
X-ORIGINAL-URL:https://srilankaapparelsourcing.com
X-WR-CALDESC:Events for srilankaapparelsourcing.com
REFRESH-INTERVAL;VALUE=DURATION:PT1H
X-Robots-Tag:noindex
X-PUBLISHED-TTL:PT1H
BEGIN:VTIMEZONE
TZID:UTC
BEGIN:STANDARD
TZOFFSETFROM:+0000
TZOFFSETTO:+0000
TZNAME:UTC
DTSTART:20230101T000000
END:STANDARD
END:VTIMEZONE
BEGIN:VEVENT
DTSTART;TZID=UTC:20240617T090000
DTEND;TZID=UTC:20240618T170000
DTSTAMP:20260425T153307
CREATED:20260208T092706Z
LAST-MODIFIED:20260208T092754Z
UID:692-1718614800-1718730000@srilankaapparelsourcing.com
SUMMARY:Sourced Sri Lanka 2024
DESCRIPTION:SOURCED SRILANKA Textile & Apparel Road Show\nSourced Sri Lanka – Textile & Apparel Roadshow to be held on 17th to 18th June 2024\, at the Royal Horticultural Hall\, London UK. \nSourced\, Sri Lanka is the UK’s first Apparel and textile fashion trade event showcasing the very best of Sri Lankan\, manufacturing across 2 days\, which is organised by Sri Lanka Export Development Board along with Sri Lanka Apparel Sourcing Association to promote Sri Lanka apparel in the UK market. \nOBJECTIVE \nThe objective is to support apparel exporters in establishing business connections with UK buyers and expanding exports to the UK through the UK Developing Countries Trading Scheme (DCTS) and expand the Sri Lanka apparel exports share to the UK. Additionally\, the aim is to showcase Sri Lanka as a responsible apparel manufacturing destination in Asia\, fostering awareness among UK-based buyers. \n\n\nSri Lanka Apparel Sourcing Association\n\n+94771087792 \nView Organizer Website \nslasacmb@gmail.com \n\nRoyal Horticulture Hall\, London
URL:https://srilankaapparelsourcing.com/event/sourced-sri-lanka-2024/
ATTACH;FMTTYPE=image/png:https://srilankaapparelsourcing.com/wp-content/uploads/2026/02/SSL.png
END:VEVENT
END:VCALENDAR